BEGIN:VCALENDAR
VERSION:2.0
PRODID:icalendar-ruby
CALSCALE:GREGORIAN
METHOD:PUBLISH
BEGIN:VEVENT
DTSTAMP:20260421T162609Z
UID:36-298263@deerfieldumcnj.org
DTSTART:20260428T230000Z
DTEND:20260429T000000Z
CLASS:PUBLIC
CREATED:20260416T123122
DESCRIPTION:Previous date of 4/27 Cancled
LAST-MODIFIED:20260416T123122
LOCATION:Fellowship Hall
SUMMARY:Finance Committee Meeting 
URL;VALUE=URI:https://deerfieldumcnj.org/events/finance-committee-meeting--
 36/2026-04-28
ATTACH;FILENAME=Finance-Committee1.jpg;FMTTYPE=image/jpeg:https://dq5pwpg1q
 8ru0.cloudfront.net/2026/03/31/17/34/28/1159d6a0-f926-45bf-9f49-eb00bd6370
 59/Finance-Committee1.jpg
END:VEVENT
END:VCALENDAR
